BEGIN:VCALENDAR
VERSION:2.0
PRODID:-//Schützemättler - ECPv6.15.20//NONSGML v1.0//EN
CALSCALE:GREGORIAN
METHOD:PUBLISH
X-WR-CALNAME:Schützemättler
X-ORIGINAL-URL:https://schuetzenmatte-basel.ch
X-WR-CALDESC:Veranstaltungen für Schützemättler
REFRESH-INTERVAL;VALUE=DURATION:PT1H
X-Robots-Tag:noindex
X-PUBLISHED-TTL:PT1H
BEGIN:VTIMEZONE
TZID:Europe/Zurich
BEGIN:DAYLIGHT
TZOFFSETFROM:+0100
TZOFFSETTO:+0200
TZNAME:CEST
DTSTART:20230326T010000
END:DAYLIGHT
BEGIN:STANDARD
TZOFFSETFROM:+0200
TZOFFSETTO:+0100
TZNAME:CET
DTSTART:20231029T010000
END:STANDARD
BEGIN:DAYLIGHT
TZOFFSETFROM:+0100
TZOFFSETTO:+0200
TZNAME:CEST
DTSTART:20240331T010000
END:DAYLIGHT
BEGIN:STANDARD
TZOFFSETFROM:+0200
TZOFFSETTO:+0100
TZNAME:CET
DTSTART:20241027T010000
END:STANDARD
BEGIN:DAYLIGHT
TZOFFSETFROM:+0100
TZOFFSETTO:+0200
TZNAME:CEST
DTSTART:20250330T010000
END:DAYLIGHT
BEGIN:STANDARD
TZOFFSETFROM:+0200
TZOFFSETTO:+0100
TZNAME:CET
DTSTART:20251026T010000
END:STANDARD
BEGIN:DAYLIGHT
TZOFFSETFROM:+0100
TZOFFSETTO:+0200
TZNAME:CEST
DTSTART:20260329T010000
END:DAYLIGHT
BEGIN:STANDARD
TZOFFSETFROM:+0200
TZOFFSETTO:+0100
TZNAME:CET
DTSTART:20261025T010000
END:STANDARD
END:VTIMEZONE
BEGIN:VEVENT
DTSTART;TZID=Europe/Zurich:20250902T163000
DTEND;TZID=Europe/Zurich:20250902T190000
DTSTAMP:20260421T064744
CREATED:20250727T092318Z
LAST-MODIFIED:20250727T092318Z
UID:10000280-1756830600-1756839600@schuetzenmatte-basel.ch
SUMMARY:Wochentreff
DESCRIPTION:
URL:https://schuetzenmatte-basel.ch/anlass/wochentreff-24/2025-09-02/
LOCATION:Clubrestaurant BSC Old Boys\, Wielandplatz 12\, Basel\, Base-Stadt\, 4054\, Schweiz
ORGANIZER;CN="Sch%C3%BCtzenm%C3%A4ttler":MAILTO:balz.heusler@gmail.com
END:VEVENT
BEGIN:VEVENT
DTSTART;TZID=Europe/Zurich:20250826T163000
DTEND;TZID=Europe/Zurich:20250826T190000
DTSTAMP:20260421T064744
CREATED:20250727T092318Z
LAST-MODIFIED:20250727T092318Z
UID:10000279-1756225800-1756234800@schuetzenmatte-basel.ch
SUMMARY:Wochentreff
DESCRIPTION:
URL:https://schuetzenmatte-basel.ch/anlass/wochentreff-24/2025-08-26/
LOCATION:Clubrestaurant BSC Old Boys\, Wielandplatz 12\, Basel\, Base-Stadt\, 4054\, Schweiz
ORGANIZER;CN="Sch%C3%BCtzenm%C3%A4ttler":MAILTO:balz.heusler@gmail.com
END:VEVENT
BEGIN:VEVENT
DTSTART;TZID=Europe/Zurich:20250819T163000
DTEND;TZID=Europe/Zurich:20250819T190000
DTSTAMP:20260421T064744
CREATED:20250727T092318Z
LAST-MODIFIED:20250727T092318Z
UID:10000278-1755621000-1755630000@schuetzenmatte-basel.ch
SUMMARY:Wochentreff
DESCRIPTION:
URL:https://schuetzenmatte-basel.ch/anlass/wochentreff-24/2025-08-19/
LOCATION:Clubrestaurant BSC Old Boys\, Wielandplatz 12\, Basel\, Base-Stadt\, 4054\, Schweiz
ORGANIZER;CN="Sch%C3%BCtzenm%C3%A4ttler":MAILTO:balz.heusler@gmail.com
END:VEVENT
BEGIN:VEVENT
DTSTART;TZID=Europe/Zurich:20250812T163000
DTEND;TZID=Europe/Zurich:20250812T190000
DTSTAMP:20260421T064745
CREATED:20250727T092318Z
LAST-MODIFIED:20250727T092318Z
UID:10000277-1755016200-1755025200@schuetzenmatte-basel.ch
SUMMARY:Wochentreff
DESCRIPTION:
URL:https://schuetzenmatte-basel.ch/anlass/wochentreff-24/2025-08-12/
LOCATION:Clubrestaurant BSC Old Boys\, Wielandplatz 12\, Basel\, Base-Stadt\, 4054\, Schweiz
ORGANIZER;CN="Sch%C3%BCtzenm%C3%A4ttler":MAILTO:balz.heusler@gmail.com
END:VEVENT
BEGIN:VEVENT
DTSTART;TZID=Europe/Zurich:20250624T163000
DTEND;TZID=Europe/Zurich:20250624T190000
DTSTAMP:20260421T064745
CREATED:20241227T095008Z
LAST-MODIFIED:20241227T095008Z
UID:10000258-1750782600-1750791600@schuetzenmatte-basel.ch
SUMMARY:Wochentreff
DESCRIPTION:
URL:https://schuetzenmatte-basel.ch/anlass/wochentreff-22/2025-06-24/
LOCATION:Clubrestaurant BSC Old Boys\, Wielandplatz 12\, Basel\, Base-Stadt\, 4054\, Schweiz
ORGANIZER;CN="Sch%C3%BCtzenm%C3%A4ttler":MAILTO:balz.heusler@gmail.com
END:VEVENT
BEGIN:VEVENT
DTSTART;TZID=Europe/Zurich:20250617T163000
DTEND;TZID=Europe/Zurich:20250617T190000
DTSTAMP:20260421T064745
CREATED:20241227T095008Z
LAST-MODIFIED:20241227T095008Z
UID:10000257-1750177800-1750186800@schuetzenmatte-basel.ch
SUMMARY:Wochentreff
DESCRIPTION:
URL:https://schuetzenmatte-basel.ch/anlass/wochentreff-22/2025-06-17/
LOCATION:Clubrestaurant BSC Old Boys\, Wielandplatz 12\, Basel\, Base-Stadt\, 4054\, Schweiz
ORGANIZER;CN="Sch%C3%BCtzenm%C3%A4ttler":MAILTO:balz.heusler@gmail.com
END:VEVENT
BEGIN:VEVENT
DTSTART;TZID=Europe/Zurich:20250610T163000
DTEND;TZID=Europe/Zurich:20250610T190000
DTSTAMP:20260421T064745
CREATED:20241227T095008Z
LAST-MODIFIED:20241227T095008Z
UID:10000256-1749573000-1749582000@schuetzenmatte-basel.ch
SUMMARY:Wochentreff
DESCRIPTION:
URL:https://schuetzenmatte-basel.ch/anlass/wochentreff-22/2025-06-10/
LOCATION:Clubrestaurant BSC Old Boys\, Wielandplatz 12\, Basel\, Base-Stadt\, 4054\, Schweiz
ORGANIZER;CN="Sch%C3%BCtzenm%C3%A4ttler":MAILTO:balz.heusler@gmail.com
END:VEVENT
BEGIN:VEVENT
DTSTART;TZID=Europe/Zurich:20250603T163000
DTEND;TZID=Europe/Zurich:20250603T190000
DTSTAMP:20260421T064745
CREATED:20241227T095008Z
LAST-MODIFIED:20241227T095008Z
UID:10000255-1748968200-1748977200@schuetzenmatte-basel.ch
SUMMARY:Wochentreff
DESCRIPTION:
URL:https://schuetzenmatte-basel.ch/anlass/wochentreff-22/2025-06-03/
LOCATION:Clubrestaurant BSC Old Boys\, Wielandplatz 12\, Basel\, Base-Stadt\, 4054\, Schweiz
ORGANIZER;CN="Sch%C3%BCtzenm%C3%A4ttler":MAILTO:balz.heusler@gmail.com
END:VEVENT
BEGIN:VEVENT
DTSTART;TZID=Europe/Zurich:20250527T163000
DTEND;TZID=Europe/Zurich:20250527T190000
DTSTAMP:20260421T064745
CREATED:20241227T095008Z
LAST-MODIFIED:20241227T095008Z
UID:10000254-1748363400-1748372400@schuetzenmatte-basel.ch
SUMMARY:Wochentreff
DESCRIPTION:
URL:https://schuetzenmatte-basel.ch/anlass/wochentreff-22/2025-05-27/
LOCATION:Clubrestaurant BSC Old Boys\, Wielandplatz 12\, Basel\, Base-Stadt\, 4054\, Schweiz
ORGANIZER;CN="Sch%C3%BCtzenm%C3%A4ttler":MAILTO:balz.heusler@gmail.com
END:VEVENT
BEGIN:VEVENT
DTSTART;TZID=Europe/Zurich:20250520T163000
DTEND;TZID=Europe/Zurich:20250520T190000
DTSTAMP:20260421T064745
CREATED:20241227T095008Z
LAST-MODIFIED:20241227T095008Z
UID:10000253-1747758600-1747767600@schuetzenmatte-basel.ch
SUMMARY:Wochentreff
DESCRIPTION:
URL:https://schuetzenmatte-basel.ch/anlass/wochentreff-22/2025-05-20/
LOCATION:Clubrestaurant BSC Old Boys\, Wielandplatz 12\, Basel\, Base-Stadt\, 4054\, Schweiz
ORGANIZER;CN="Sch%C3%BCtzenm%C3%A4ttler":MAILTO:balz.heusler@gmail.com
END:VEVENT
BEGIN:VEVENT
DTSTART;TZID=Europe/Zurich:20250513T163000
DTEND;TZID=Europe/Zurich:20250513T190000
DTSTAMP:20260421T064745
CREATED:20241227T095008Z
LAST-MODIFIED:20241227T095008Z
UID:10000252-1747153800-1747162800@schuetzenmatte-basel.ch
SUMMARY:Wochentreff
DESCRIPTION:
URL:https://schuetzenmatte-basel.ch/anlass/wochentreff-22/2025-05-13/
LOCATION:Clubrestaurant BSC Old Boys\, Wielandplatz 12\, Basel\, Base-Stadt\, 4054\, Schweiz
ORGANIZER;CN="Sch%C3%BCtzenm%C3%A4ttler":MAILTO:balz.heusler@gmail.com
END:VEVENT
BEGIN:VEVENT
DTSTART;TZID=Europe/Zurich:20250506T163000
DTEND;TZID=Europe/Zurich:20250506T190000
DTSTAMP:20260421T064745
CREATED:20241227T095008Z
LAST-MODIFIED:20241227T095008Z
UID:10000251-1746549000-1746558000@schuetzenmatte-basel.ch
SUMMARY:Wochentreff
DESCRIPTION:
URL:https://schuetzenmatte-basel.ch/anlass/wochentreff-22/2025-05-06/
LOCATION:Clubrestaurant BSC Old Boys\, Wielandplatz 12\, Basel\, Base-Stadt\, 4054\, Schweiz
ORGANIZER;CN="Sch%C3%BCtzenm%C3%A4ttler":MAILTO:balz.heusler@gmail.com
END:VEVENT
BEGIN:VEVENT
DTSTART;TZID=Europe/Zurich:20250429T163000
DTEND;TZID=Europe/Zurich:20250429T190000
DTSTAMP:20260421T064745
CREATED:20241227T095008Z
LAST-MODIFIED:20241227T095008Z
UID:10000250-1745944200-1745953200@schuetzenmatte-basel.ch
SUMMARY:Wochentreff
DESCRIPTION:
URL:https://schuetzenmatte-basel.ch/anlass/wochentreff-22/2025-04-29/
LOCATION:Clubrestaurant BSC Old Boys\, Wielandplatz 12\, Basel\, Base-Stadt\, 4054\, Schweiz
ORGANIZER;CN="Sch%C3%BCtzenm%C3%A4ttler":MAILTO:balz.heusler@gmail.com
END:VEVENT
BEGIN:VEVENT
DTSTART;TZID=Europe/Zurich:20250408T163000
DTEND;TZID=Europe/Zurich:20250408T190000
DTSTAMP:20260421T064745
CREATED:20241227T095008Z
LAST-MODIFIED:20241227T095008Z
UID:10000249-1744129800-1744138800@schuetzenmatte-basel.ch
SUMMARY:Wochentreff
DESCRIPTION:
URL:https://schuetzenmatte-basel.ch/anlass/wochentreff-22/2025-04-08/
LOCATION:Clubrestaurant BSC Old Boys\, Wielandplatz 12\, Basel\, Base-Stadt\, 4054\, Schweiz
ORGANIZER;CN="Sch%C3%BCtzenm%C3%A4ttler":MAILTO:balz.heusler@gmail.com
END:VEVENT
BEGIN:VEVENT
DTSTART;TZID=Europe/Zurich:20250401T163000
DTEND;TZID=Europe/Zurich:20250401T190000
DTSTAMP:20260421T064745
CREATED:20241227T095008Z
LAST-MODIFIED:20241227T095008Z
UID:10000248-1743525000-1743534000@schuetzenmatte-basel.ch
SUMMARY:Wochentreff
DESCRIPTION:
URL:https://schuetzenmatte-basel.ch/anlass/wochentreff-22/2025-04-01/
LOCATION:Clubrestaurant BSC Old Boys\, Wielandplatz 12\, Basel\, Base-Stadt\, 4054\, Schweiz
ORGANIZER;CN="Sch%C3%BCtzenm%C3%A4ttler":MAILTO:balz.heusler@gmail.com
END:VEVENT
BEGIN:VEVENT
DTSTART;TZID=Europe/Zurich:20250325T163000
DTEND;TZID=Europe/Zurich:20250325T190000
DTSTAMP:20260421T064745
CREATED:20241227T095008Z
LAST-MODIFIED:20241227T095008Z
UID:10000247-1742920200-1742929200@schuetzenmatte-basel.ch
SUMMARY:Wochentreff
DESCRIPTION:
URL:https://schuetzenmatte-basel.ch/anlass/wochentreff-22/2025-03-25/
LOCATION:Clubrestaurant BSC Old Boys\, Wielandplatz 12\, Basel\, Base-Stadt\, 4054\, Schweiz
ORGANIZER;CN="Sch%C3%BCtzenm%C3%A4ttler":MAILTO:balz.heusler@gmail.com
END:VEVENT
BEGIN:VEVENT
DTSTART;TZID=Europe/Zurich:20250318T163000
DTEND;TZID=Europe/Zurich:20250318T190000
DTSTAMP:20260421T064745
CREATED:20241227T095008Z
LAST-MODIFIED:20241227T095008Z
UID:10000246-1742315400-1742324400@schuetzenmatte-basel.ch
SUMMARY:Wochentreff
DESCRIPTION:
URL:https://schuetzenmatte-basel.ch/anlass/wochentreff-22/2025-03-18/
LOCATION:Clubrestaurant BSC Old Boys\, Wielandplatz 12\, Basel\, Base-Stadt\, 4054\, Schweiz
ORGANIZER;CN="Sch%C3%BCtzenm%C3%A4ttler":MAILTO:balz.heusler@gmail.com
END:VEVENT
BEGIN:VEVENT
DTSTART;TZID=Europe/Zurich:20250225T163000
DTEND;TZID=Europe/Zurich:20250225T190000
DTSTAMP:20260421T064745
CREATED:20241227T095008Z
LAST-MODIFIED:20241227T095008Z
UID:10000245-1740501000-1740510000@schuetzenmatte-basel.ch
SUMMARY:Wochentreff
DESCRIPTION:
URL:https://schuetzenmatte-basel.ch/anlass/wochentreff-22/2025-02-25/
LOCATION:Clubrestaurant BSC Old Boys\, Wielandplatz 12\, Basel\, Base-Stadt\, 4054\, Schweiz
ORGANIZER;CN="Sch%C3%BCtzenm%C3%A4ttler":MAILTO:balz.heusler@gmail.com
END:VEVENT
BEGIN:VEVENT
DTSTART;TZID=Europe/Zurich:20250218T163000
DTEND;TZID=Europe/Zurich:20250218T190000
DTSTAMP:20260421T064745
CREATED:20241227T095008Z
LAST-MODIFIED:20241227T095008Z
UID:10000244-1739896200-1739905200@schuetzenmatte-basel.ch
SUMMARY:Wochentreff
DESCRIPTION:
URL:https://schuetzenmatte-basel.ch/anlass/wochentreff-22/2025-02-18/
LOCATION:Clubrestaurant BSC Old Boys\, Wielandplatz 12\, Basel\, Base-Stadt\, 4054\, Schweiz
ORGANIZER;CN="Sch%C3%BCtzenm%C3%A4ttler":MAILTO:balz.heusler@gmail.com
END:VEVENT
BEGIN:VEVENT
DTSTART;TZID=Europe/Zurich:20250211T163000
DTEND;TZID=Europe/Zurich:20250211T190000
DTSTAMP:20260421T064745
CREATED:20241227T095008Z
LAST-MODIFIED:20241227T095008Z
UID:10000243-1739291400-1739300400@schuetzenmatte-basel.ch
SUMMARY:Wochentreff
DESCRIPTION:
URL:https://schuetzenmatte-basel.ch/anlass/wochentreff-22/2025-02-11/
LOCATION:Clubrestaurant BSC Old Boys\, Wielandplatz 12\, Basel\, Base-Stadt\, 4054\, Schweiz
ORGANIZER;CN="Sch%C3%BCtzenm%C3%A4ttler":MAILTO:balz.heusler@gmail.com
END:VEVENT
BEGIN:VEVENT
DTSTART;TZID=Europe/Zurich:20250204T163000
DTEND;TZID=Europe/Zurich:20250204T190000
DTSTAMP:20260421T064745
CREATED:20241227T095008Z
LAST-MODIFIED:20241227T095008Z
UID:10000242-1738686600-1738695600@schuetzenmatte-basel.ch
SUMMARY:Wochentreff
DESCRIPTION:
URL:https://schuetzenmatte-basel.ch/anlass/wochentreff-22/2025-02-04/
LOCATION:Clubrestaurant BSC Old Boys\, Wielandplatz 12\, Basel\, Base-Stadt\, 4054\, Schweiz
ORGANIZER;CN="Sch%C3%BCtzenm%C3%A4ttler":MAILTO:balz.heusler@gmail.com
END:VEVENT
BEGIN:VEVENT
DTSTART;TZID=Europe/Zurich:20250128T163000
DTEND;TZID=Europe/Zurich:20250128T190000
DTSTAMP:20260421T064745
CREATED:20241227T095008Z
LAST-MODIFIED:20241227T095008Z
UID:10000241-1738081800-1738090800@schuetzenmatte-basel.ch
SUMMARY:Wochentreff
DESCRIPTION:
URL:https://schuetzenmatte-basel.ch/anlass/wochentreff-22/2025-01-28/
LOCATION:Clubrestaurant BSC Old Boys\, Wielandplatz 12\, Basel\, Base-Stadt\, 4054\, Schweiz
ORGANIZER;CN="Sch%C3%BCtzenm%C3%A4ttler":MAILTO:balz.heusler@gmail.com
END:VEVENT
BEGIN:VEVENT
DTSTART;TZID=Europe/Zurich:20250121T163000
DTEND;TZID=Europe/Zurich:20250121T190000
DTSTAMP:20260421T064745
CREATED:20241227T095008Z
LAST-MODIFIED:20241227T095008Z
UID:10000240-1737477000-1737486000@schuetzenmatte-basel.ch
SUMMARY:Wochentreff
DESCRIPTION:
URL:https://schuetzenmatte-basel.ch/anlass/wochentreff-22/2025-01-21/
LOCATION:Clubrestaurant BSC Old Boys\, Wielandplatz 12\, Basel\, Base-Stadt\, 4054\, Schweiz
ORGANIZER;CN="Sch%C3%BCtzenm%C3%A4ttler":MAILTO:balz.heusler@gmail.com
END:VEVENT
BEGIN:VEVENT
DTSTART;TZID=Europe/Zurich:20250114T163000
DTEND;TZID=Europe/Zurich:20250114T190000
DTSTAMP:20260421T064745
CREATED:20241227T095008Z
LAST-MODIFIED:20241227T095008Z
UID:10000239-1736872200-1736881200@schuetzenmatte-basel.ch
SUMMARY:Wochentreff
DESCRIPTION:
URL:https://schuetzenmatte-basel.ch/anlass/wochentreff-22/2025-01-14/
LOCATION:Clubrestaurant BSC Old Boys\, Wielandplatz 12\, Basel\, Base-Stadt\, 4054\, Schweiz
ORGANIZER;CN="Sch%C3%BCtzenm%C3%A4ttler":MAILTO:balz.heusler@gmail.com
END:VEVENT
BEGIN:VEVENT
DTSTART;TZID=Europe/Zurich:20241217T163000
DTEND;TZID=Europe/Zurich:20241217T190000
DTSTAMP:20260421T064745
CREATED:20240702T065113Z
LAST-MODIFIED:20240702T143517Z
UID:10000237-1734453000-1734462000@schuetzenmatte-basel.ch
SUMMARY:Wochentreff
DESCRIPTION:
URL:https://schuetzenmatte-basel.ch/anlass/wochentreff-17/2024-12-17/
LOCATION:Clubrestaurant BSC Old Boys\, Wielandplatz 12\, Basel\, Base-Stadt\, 4054\, Schweiz
CATEGORIES:Wochentreff
ORGANIZER;CN="Sch%C3%BCtzenm%C3%A4ttler":MAILTO:balz.heusler@gmail.com
END:VEVENT
BEGIN:VEVENT
DTSTART;TZID=Europe/Zurich:20241210T163000
DTEND;TZID=Europe/Zurich:20241210T190000
DTSTAMP:20260421T064745
CREATED:20240702T065113Z
LAST-MODIFIED:20240702T143517Z
UID:10000236-1733848200-1733857200@schuetzenmatte-basel.ch
SUMMARY:Wochentreff
DESCRIPTION:
URL:https://schuetzenmatte-basel.ch/anlass/wochentreff-17/2024-12-10/
LOCATION:Clubrestaurant BSC Old Boys\, Wielandplatz 12\, Basel\, Base-Stadt\, 4054\, Schweiz
CATEGORIES:Wochentreff
ORGANIZER;CN="Sch%C3%BCtzenm%C3%A4ttler":MAILTO:balz.heusler@gmail.com
END:VEVENT
BEGIN:VEVENT
DTSTART;TZID=Europe/Zurich:20241203T163000
DTEND;TZID=Europe/Zurich:20241203T190000
DTSTAMP:20260421T064745
CREATED:20240702T065113Z
LAST-MODIFIED:20240702T143517Z
UID:10000235-1733243400-1733252400@schuetzenmatte-basel.ch
SUMMARY:Wochentreff
DESCRIPTION:
URL:https://schuetzenmatte-basel.ch/anlass/wochentreff-17/2024-12-03/
LOCATION:Clubrestaurant BSC Old Boys\, Wielandplatz 12\, Basel\, Base-Stadt\, 4054\, Schweiz
CATEGORIES:Wochentreff
ORGANIZER;CN="Sch%C3%BCtzenm%C3%A4ttler":MAILTO:balz.heusler@gmail.com
END:VEVENT
BEGIN:VEVENT
DTSTART;TZID=Europe/Zurich:20241126T163000
DTEND;TZID=Europe/Zurich:20241126T190000
DTSTAMP:20260421T064745
CREATED:20240702T065113Z
LAST-MODIFIED:20240702T143517Z
UID:10000234-1732638600-1732647600@schuetzenmatte-basel.ch
SUMMARY:Wochentreff
DESCRIPTION:
URL:https://schuetzenmatte-basel.ch/anlass/wochentreff-17/2024-11-26/
LOCATION:Clubrestaurant BSC Old Boys\, Wielandplatz 12\, Basel\, Base-Stadt\, 4054\, Schweiz
CATEGORIES:Wochentreff
ORGANIZER;CN="Sch%C3%BCtzenm%C3%A4ttler":MAILTO:balz.heusler@gmail.com
END:VEVENT
BEGIN:VEVENT
DTSTART;TZID=Europe/Zurich:20241119T163000
DTEND;TZID=Europe/Zurich:20241119T190000
DTSTAMP:20260421T064745
CREATED:20240702T065113Z
LAST-MODIFIED:20240702T143517Z
UID:10000233-1732033800-1732042800@schuetzenmatte-basel.ch
SUMMARY:Wochentreff
DESCRIPTION:
URL:https://schuetzenmatte-basel.ch/anlass/wochentreff-17/2024-11-19/
LOCATION:Clubrestaurant BSC Old Boys\, Wielandplatz 12\, Basel\, Base-Stadt\, 4054\, Schweiz
CATEGORIES:Wochentreff
ORGANIZER;CN="Sch%C3%BCtzenm%C3%A4ttler":MAILTO:balz.heusler@gmail.com
END:VEVENT
BEGIN:VEVENT
DTSTART;TZID=Europe/Zurich:20241112T163000
DTEND;TZID=Europe/Zurich:20241112T190000
DTSTAMP:20260421T064745
CREATED:20240702T065113Z
LAST-MODIFIED:20240702T143517Z
UID:10000232-1731429000-1731438000@schuetzenmatte-basel.ch
SUMMARY:Wochentreff
DESCRIPTION:
URL:https://schuetzenmatte-basel.ch/anlass/wochentreff-17/2024-11-12/
LOCATION:Clubrestaurant BSC Old Boys\, Wielandplatz 12\, Basel\, Base-Stadt\, 4054\, Schweiz
CATEGORIES:Wochentreff
ORGANIZER;CN="Sch%C3%BCtzenm%C3%A4ttler":MAILTO:balz.heusler@gmail.com
END:VEVENT
END:VCALENDAR