BEGIN:VCALENDAR
VERSION:2.0
PRODID:-//Schützemättler - ECPv6.15.20//NONSGML v1.0//EN
CALSCALE:GREGORIAN
METHOD:PUBLISH
X-ORIGINAL-URL:https://schuetzenmatte-basel.ch
X-WR-CALDESC:Veranstaltungen für Schützemättler
REFRESH-INTERVAL;VALUE=DURATION:PT1H
X-Robots-Tag:noindex
X-PUBLISHED-TTL:PT1H
BEGIN:VTIMEZONE
TZID:Europe/Zurich
BEGIN:DAYLIGHT
TZOFFSETFROM:+0100
TZOFFSETTO:+0200
TZNAME:CEST
DTSTART:20220327T010000
END:DAYLIGHT
BEGIN:STANDARD
TZOFFSETFROM:+0200
TZOFFSETTO:+0100
TZNAME:CET
DTSTART:20221030T010000
END:STANDARD
BEGIN:DAYLIGHT
TZOFFSETFROM:+0100
TZOFFSETTO:+0200
TZNAME:CEST
DTSTART:20230326T010000
END:DAYLIGHT
BEGIN:STANDARD
TZOFFSETFROM:+0200
TZOFFSETTO:+0100
TZNAME:CET
DTSTART:20231029T010000
END:STANDARD
BEGIN:DAYLIGHT
TZOFFSETFROM:+0100
TZOFFSETTO:+0200
TZNAME:CEST
DTSTART:20240331T010000
END:DAYLIGHT
BEGIN:STANDARD
TZOFFSETFROM:+0200
TZOFFSETTO:+0100
TZNAME:CET
DTSTART:20241027T010000
END:STANDARD
BEGIN:DAYLIGHT
TZOFFSETFROM:+0100
TZOFFSETTO:+0200
TZNAME:CEST
DTSTART:20250330T010000
END:DAYLIGHT
BEGIN:STANDARD
TZOFFSETFROM:+0200
TZOFFSETTO:+0100
TZNAME:CET
DTSTART:20251026T010000
END:STANDARD
END:VTIMEZONE
BEGIN:VEVENT
DTSTART;TZID=Europe/Zurich:20240507T163000
DTEND;TZID=Europe/Zurich:20240507T190000
DTSTAMP:20260421T190651
CREATED:20240107T111355Z
LAST-MODIFIED:20240702T143517Z
UID:10000212-1715099400-1715108400@schuetzenmatte-basel.ch
SUMMARY:Wochentreff
DESCRIPTION:
URL:https://schuetzenmatte-basel.ch/anlass/wochentreff-13/
LOCATION:Clubrestaurant BSC Old Boys\, Wielandplatz 12\, Basel\, Base-Stadt\, 4054\, Schweiz
CATEGORIES:Wochentreff
ORGANIZER;CN="Sch%C3%BCtzenm%C3%A4ttler":MAILTO:balz.heusler@gmail.com
END:VEVENT
BEGIN:VEVENT
DTSTART;TZID=Europe/Zurich:20240430T163000
DTEND;TZID=Europe/Zurich:20240430T190000
DTSTAMP:20260421T190651
CREATED:20240107T111334Z
LAST-MODIFIED:20240702T143517Z
UID:10000211-1714494600-1714503600@schuetzenmatte-basel.ch
SUMMARY:Wochentreff
DESCRIPTION:
URL:https://schuetzenmatte-basel.ch/anlass/wochentreff-12/
LOCATION:Clubrestaurant BSC Old Boys\, Wielandplatz 12\, Basel\, Base-Stadt\, 4054\, Schweiz
CATEGORIES:Wochentreff
ORGANIZER;CN="Sch%C3%BCtzenm%C3%A4ttler":MAILTO:balz.heusler@gmail.com
END:VEVENT
BEGIN:VEVENT
DTSTART;TZID=Europe/Zurich:20240423T163000
DTEND;TZID=Europe/Zurich:20240423T190000
DTSTAMP:20260421T190651
CREATED:20240107T111312Z
LAST-MODIFIED:20240702T143517Z
UID:10000210-1713889800-1713898800@schuetzenmatte-basel.ch
SUMMARY:Wochentreff
DESCRIPTION:
URL:https://schuetzenmatte-basel.ch/anlass/wochentreff-11/
LOCATION:Clubrestaurant BSC Old Boys\, Wielandplatz 12\, Basel\, Base-Stadt\, 4054\, Schweiz
CATEGORIES:Wochentreff
ORGANIZER;CN="Sch%C3%BCtzenm%C3%A4ttler":MAILTO:balz.heusler@gmail.com
END:VEVENT
BEGIN:VEVENT
DTSTART;TZID=Europe/Zurich:20240416T163000
DTEND;TZID=Europe/Zurich:20240416T190000
DTSTAMP:20260421T190651
CREATED:20240107T111245Z
LAST-MODIFIED:20240702T143517Z
UID:10000209-1713285000-1713294000@schuetzenmatte-basel.ch
SUMMARY:Wochentreff
DESCRIPTION:
URL:https://schuetzenmatte-basel.ch/anlass/wochentreff-10/
LOCATION:Clubrestaurant BSC Old Boys\, Wielandplatz 12\, Basel\, Base-Stadt\, 4054\, Schweiz
CATEGORIES:Wochentreff
ORGANIZER;CN="Sch%C3%BCtzenm%C3%A4ttler":MAILTO:balz.heusler@gmail.com
END:VEVENT
BEGIN:VEVENT
DTSTART;TZID=Europe/Zurich:20240409T163000
DTEND;TZID=Europe/Zurich:20240409T190000
DTSTAMP:20260421T190651
CREATED:20240107T111218Z
LAST-MODIFIED:20240702T143517Z
UID:10000208-1712680200-1712689200@schuetzenmatte-basel.ch
SUMMARY:Wochentreff
DESCRIPTION:
URL:https://schuetzenmatte-basel.ch/anlass/wochentreff-9/
LOCATION:Clubrestaurant BSC Old Boys\, Wielandplatz 12\, Basel\, Base-Stadt\, 4054\, Schweiz
CATEGORIES:Wochentreff
ORGANIZER;CN="Sch%C3%BCtzenm%C3%A4ttler":MAILTO:balz.heusler@gmail.com
END:VEVENT
BEGIN:VEVENT
DTSTART;TZID=Europe/Zurich:20240319T163000
DTEND;TZID=Europe/Zurich:20240319T190000
DTSTAMP:20260421T190651
CREATED:20240107T111122Z
LAST-MODIFIED:20240702T143517Z
UID:10000207-1710865800-1710874800@schuetzenmatte-basel.ch
SUMMARY:Wochentreff
DESCRIPTION:
URL:https://schuetzenmatte-basel.ch/anlass/wochentreff-8/
LOCATION:Clubrestaurant BSC Old Boys\, Wielandplatz 12\, Basel\, Base-Stadt\, 4054\, Schweiz
CATEGORIES:Wochentreff
ORGANIZER;CN="Sch%C3%BCtzenm%C3%A4ttler":MAILTO:balz.heusler@gmail.com
END:VEVENT
BEGIN:VEVENT
DTSTART;TZID=Europe/Zurich:20240312T163000
DTEND;TZID=Europe/Zurich:20240312T190000
DTSTAMP:20260421T190651
CREATED:20240107T111001Z
LAST-MODIFIED:20240702T143517Z
UID:10000206-1710261000-1710270000@schuetzenmatte-basel.ch
SUMMARY:Wochentreff
DESCRIPTION:
URL:https://schuetzenmatte-basel.ch/anlass/wochentreff-7/
LOCATION:Clubrestaurant BSC Old Boys\, Wielandplatz 12\, Basel\, Base-Stadt\, 4054\, Schweiz
CATEGORIES:Wochentreff
ORGANIZER;CN="Sch%C3%BCtzenm%C3%A4ttler":MAILTO:balz.heusler@gmail.com
END:VEVENT
BEGIN:VEVENT
DTSTART;TZID=Europe/Zurich:20240305T163000
DTEND;TZID=Europe/Zurich:20240305T190000
DTSTAMP:20260421T190651
CREATED:20240107T110937Z
LAST-MODIFIED:20240702T143517Z
UID:10000205-1709656200-1709665200@schuetzenmatte-basel.ch
SUMMARY:Wochentreff
DESCRIPTION:
URL:https://schuetzenmatte-basel.ch/anlass/wochentreff-6/
LOCATION:Clubrestaurant BSC Old Boys\, Wielandplatz 12\, Basel\, Base-Stadt\, 4054\, Schweiz
CATEGORIES:Wochentreff
ORGANIZER;CN="Sch%C3%BCtzenm%C3%A4ttler":MAILTO:balz.heusler@gmail.com
END:VEVENT
BEGIN:VEVENT
DTSTART;TZID=Europe/Zurich:20240227T163000
DTEND;TZID=Europe/Zurich:20240227T190000
DTSTAMP:20260421T190651
CREATED:20240107T110904Z
LAST-MODIFIED:20240702T143517Z
UID:10000204-1709051400-1709060400@schuetzenmatte-basel.ch
SUMMARY:Wochentreff
DESCRIPTION:
URL:https://schuetzenmatte-basel.ch/anlass/wochentreff-5/
LOCATION:Clubrestaurant BSC Old Boys\, Wielandplatz 12\, Basel\, Base-Stadt\, 4054\, Schweiz
CATEGORIES:Wochentreff
ORGANIZER;CN="Sch%C3%BCtzenm%C3%A4ttler":MAILTO:balz.heusler@gmail.com
END:VEVENT
BEGIN:VEVENT
DTSTART;TZID=Europe/Zurich:20240206T163000
DTEND;TZID=Europe/Zurich:20240206T190000
DTSTAMP:20260421T190651
CREATED:20240107T110822Z
LAST-MODIFIED:20240702T143517Z
UID:10000203-1707237000-1707246000@schuetzenmatte-basel.ch
SUMMARY:Wochentreff
DESCRIPTION:
URL:https://schuetzenmatte-basel.ch/anlass/wochentreff-4/
LOCATION:Clubrestaurant BSC Old Boys\, Wielandplatz 12\, Basel\, Base-Stadt\, 4054\, Schweiz
CATEGORIES:Wochentreff
ORGANIZER;CN="Sch%C3%BCtzenm%C3%A4ttler":MAILTO:balz.heusler@gmail.com
END:VEVENT
BEGIN:VEVENT
DTSTART;TZID=Europe/Zurich:20240130T163000
DTEND;TZID=Europe/Zurich:20240130T190000
DTSTAMP:20260421T190651
CREATED:20240107T110748Z
LAST-MODIFIED:20240702T143517Z
UID:10000202-1706632200-1706641200@schuetzenmatte-basel.ch
SUMMARY:Wochentreff
DESCRIPTION:
URL:https://schuetzenmatte-basel.ch/anlass/wochentreff-3/
LOCATION:Clubrestaurant BSC Old Boys\, Wielandplatz 12\, Basel\, Base-Stadt\, 4054\, Schweiz
CATEGORIES:Wochentreff
ORGANIZER;CN="Sch%C3%BCtzenm%C3%A4ttler":MAILTO:balz.heusler@gmail.com
END:VEVENT
BEGIN:VEVENT
DTSTART;TZID=Europe/Zurich:20240123T163000
DTEND;TZID=Europe/Zurich:20240123T190000
DTSTAMP:20260421T190651
CREATED:20240107T110703Z
LAST-MODIFIED:20240702T143517Z
UID:10000201-1706027400-1706036400@schuetzenmatte-basel.ch
SUMMARY:Wochentreff
DESCRIPTION:
URL:https://schuetzenmatte-basel.ch/anlass/wochentreff-2/
LOCATION:Clubrestaurant BSC Old Boys\, Wielandplatz 12\, Basel\, Base-Stadt\, 4054\, Schweiz
CATEGORIES:Wochentreff
ORGANIZER;CN="Sch%C3%BCtzenm%C3%A4ttler":MAILTO:balz.heusler@gmail.com
END:VEVENT
BEGIN:VEVENT
DTSTART;TZID=Europe/Zurich:20240116T163000
DTEND;TZID=Europe/Zurich:20240116T190000
DTSTAMP:20260421T190651
CREATED:20240107T110610Z
LAST-MODIFIED:20240107T110610Z
UID:10000200-1705422600-1705431600@schuetzenmatte-basel.ch
SUMMARY:Wochentreff
DESCRIPTION:
URL:https://schuetzenmatte-basel.ch/anlass/wochentreff/
LOCATION:Clubrestaurant BSC Old Boys\, Wielandplatz 12\, Basel\, Base-Stadt\, 4054\, Schweiz
CATEGORIES:Wochentreff
ORGANIZER;CN="Sch%C3%BCtzenm%C3%A4ttler":MAILTO:balz.heusler@gmail.com
END:VEVENT
BEGIN:VEVENT
DTSTART;TZID=Europe/Zurich:20231003T163000
DTEND;TZID=Europe/Zurich:20231003T190000
DTSTAMP:20260421T190651
CREATED:20230928T072405Z
LAST-MODIFIED:20230928T072712Z
UID:10000156-1696350600-1696359600@schuetzenmatte-basel.ch
SUMMARY:Boule
DESCRIPTION:
URL:https://schuetzenmatte-basel.ch/anlass/boule/
LOCATION:Hinter dem Wielandposten\, Wielandplatz 1\, Basel\, 4054\, Schweiz
ORGANIZER;CN="Sch%C3%BCtzenm%C3%A4ttler":MAILTO:balz.heusler@gmail.com
END:VEVENT
BEGIN:VEVENT
DTSTART;TZID=Europe/Zurich:20230918T170000
DTEND;TZID=Europe/Zurich:20230918T220000
DTSTAMP:20260421T190651
CREATED:20230912T095115Z
LAST-MODIFIED:20230912T095115Z
UID:10000155-1695056400-1695074400@schuetzenmatte-basel.ch
SUMMARY:Herbstanlass
DESCRIPTION:
URL:https://schuetzenmatte-basel.ch/anlass/herbstanlass/
LOCATION:Restaurant Heyer Biel Benken\, Mühlegasse 4\, Biel-Benken\, BL\, 4105
ORGANIZER;CN="Sch%C3%BCtzenm%C3%A4ttler":MAILTO:balz.heusler@gmail.com
END:VEVENT
END:VCALENDAR