BEGIN:VCALENDAR
VERSION:2.0
PRODID:-//Schützemättler - ECPv6.15.20//NONSGML v1.0//EN
CALSCALE:GREGORIAN
METHOD:PUBLISH
X-WR-CALNAME:Schützemättler
X-ORIGINAL-URL:https://schuetzenmatte-basel.ch
X-WR-CALDESC:Veranstaltungen für Schützemättler
REFRESH-INTERVAL;VALUE=DURATION:PT1H
X-Robots-Tag:noindex
X-PUBLISHED-TTL:PT1H
BEGIN:VTIMEZONE
TZID:Europe/Zurich
BEGIN:DAYLIGHT
TZOFFSETFROM:+0100
TZOFFSETTO:+0200
TZNAME:CEST
DTSTART:20240331T010000
END:DAYLIGHT
BEGIN:STANDARD
TZOFFSETFROM:+0200
TZOFFSETTO:+0100
TZNAME:CET
DTSTART:20241027T010000
END:STANDARD
BEGIN:DAYLIGHT
TZOFFSETFROM:+0100
TZOFFSETTO:+0200
TZNAME:CEST
DTSTART:20250330T010000
END:DAYLIGHT
BEGIN:STANDARD
TZOFFSETFROM:+0200
TZOFFSETTO:+0100
TZNAME:CET
DTSTART:20251026T010000
END:STANDARD
BEGIN:DAYLIGHT
TZOFFSETFROM:+0100
TZOFFSETTO:+0200
TZNAME:CEST
DTSTART:20260329T010000
END:DAYLIGHT
BEGIN:STANDARD
TZOFFSETFROM:+0200
TZOFFSETTO:+0100
TZNAME:CET
DTSTART:20261025T010000
END:STANDARD
BEGIN:DAYLIGHT
TZOFFSETFROM:+0100
TZOFFSETTO:+0200
TZNAME:CEST
DTSTART:20270328T010000
END:DAYLIGHT
BEGIN:STANDARD
TZOFFSETFROM:+0200
TZOFFSETTO:+0100
TZNAME:CET
DTSTART:20271031T010000
END:STANDARD
END:VTIMEZONE
BEGIN:VEVENT
DTSTART;TZID=Europe/Zurich:20260421T163000
DTEND;TZID=Europe/Zurich:20260421T190000
DTSTAMP:20260421T065539
CREATED:20251226T120154Z
LAST-MODIFIED:20251226T120154Z
UID:10000305-1776789000-1776798000@schuetzenmatte-basel.ch
SUMMARY:Wochentreff
DESCRIPTION:
URL:https://schuetzenmatte-basel.ch/anlass/wochentreff-23/2026-04-21/
LOCATION:Clubrestaurant BSC Old Boys\, Wielandplatz 12\, Basel\, Base-Stadt\, 4054\, Schweiz
ORGANIZER;CN="Sch%C3%BCtzenm%C3%A4ttler":MAILTO:balz.heusler@gmail.com
END:VEVENT
BEGIN:VEVENT
DTSTART;TZID=Europe/Zurich:20260414T163000
DTEND;TZID=Europe/Zurich:20260414T190000
DTSTAMP:20260421T065539
CREATED:20251226T120154Z
LAST-MODIFIED:20251226T120154Z
UID:10000304-1776184200-1776193200@schuetzenmatte-basel.ch
SUMMARY:Wochentreff
DESCRIPTION:
URL:https://schuetzenmatte-basel.ch/anlass/wochentreff-23/2026-04-14/
LOCATION:Clubrestaurant BSC Old Boys\, Wielandplatz 12\, Basel\, Base-Stadt\, 4054\, Schweiz
ORGANIZER;CN="Sch%C3%BCtzenm%C3%A4ttler":MAILTO:balz.heusler@gmail.com
END:VEVENT
BEGIN:VEVENT
DTSTART;TZID=Europe/Zurich:20260324T163000
DTEND;TZID=Europe/Zurich:20260324T190000
DTSTAMP:20260421T065539
CREATED:20251226T120154Z
LAST-MODIFIED:20251226T120154Z
UID:10000303-1774369800-1774378800@schuetzenmatte-basel.ch
SUMMARY:Wochentreff
DESCRIPTION:
URL:https://schuetzenmatte-basel.ch/anlass/wochentreff-23/2026-03-24/
LOCATION:Clubrestaurant BSC Old Boys\, Wielandplatz 12\, Basel\, Base-Stadt\, 4054\, Schweiz
ORGANIZER;CN="Sch%C3%BCtzenm%C3%A4ttler":MAILTO:balz.heusler@gmail.com
END:VEVENT
BEGIN:VEVENT
DTSTART;TZID=Europe/Zurich:20260317T163000
DTEND;TZID=Europe/Zurich:20260317T190000
DTSTAMP:20260421T065539
CREATED:20251226T120154Z
LAST-MODIFIED:20251226T120154Z
UID:10000302-1773765000-1773774000@schuetzenmatte-basel.ch
SUMMARY:Wochentreff
DESCRIPTION:
URL:https://schuetzenmatte-basel.ch/anlass/wochentreff-23/2026-03-17/
LOCATION:Clubrestaurant BSC Old Boys\, Wielandplatz 12\, Basel\, Base-Stadt\, 4054\, Schweiz
ORGANIZER;CN="Sch%C3%BCtzenm%C3%A4ttler":MAILTO:balz.heusler@gmail.com
END:VEVENT
BEGIN:VEVENT
DTSTART;TZID=Europe/Zurich:20260310T163000
DTEND;TZID=Europe/Zurich:20260310T190000
DTSTAMP:20260421T065539
CREATED:20251226T120154Z
LAST-MODIFIED:20251226T120154Z
UID:10000301-1773160200-1773169200@schuetzenmatte-basel.ch
SUMMARY:Wochentreff
DESCRIPTION:
URL:https://schuetzenmatte-basel.ch/anlass/wochentreff-23/2026-03-10/
LOCATION:Clubrestaurant BSC Old Boys\, Wielandplatz 12\, Basel\, Base-Stadt\, 4054\, Schweiz
ORGANIZER;CN="Sch%C3%BCtzenm%C3%A4ttler":MAILTO:balz.heusler@gmail.com
END:VEVENT
BEGIN:VEVENT
DTSTART;TZID=Europe/Zurich:20260303T163000
DTEND;TZID=Europe/Zurich:20260303T190000
DTSTAMP:20260421T065539
CREATED:20251226T120154Z
LAST-MODIFIED:20251226T120154Z
UID:10000300-1772555400-1772564400@schuetzenmatte-basel.ch
SUMMARY:Wochentreff
DESCRIPTION:
URL:https://schuetzenmatte-basel.ch/anlass/wochentreff-23/2026-03-03/
LOCATION:Clubrestaurant BSC Old Boys\, Wielandplatz 12\, Basel\, Base-Stadt\, 4054\, Schweiz
ORGANIZER;CN="Sch%C3%BCtzenm%C3%A4ttler":MAILTO:balz.heusler@gmail.com
END:VEVENT
BEGIN:VEVENT
DTSTART;TZID=Europe/Zurich:20260210T163000
DTEND;TZID=Europe/Zurich:20260210T190000
DTSTAMP:20260421T065539
CREATED:20251226T120154Z
LAST-MODIFIED:20251226T120154Z
UID:10000299-1770741000-1770750000@schuetzenmatte-basel.ch
SUMMARY:Wochentreff
DESCRIPTION:
URL:https://schuetzenmatte-basel.ch/anlass/wochentreff-23/2026-02-10/
LOCATION:Clubrestaurant BSC Old Boys\, Wielandplatz 12\, Basel\, Base-Stadt\, 4054\, Schweiz
ORGANIZER;CN="Sch%C3%BCtzenm%C3%A4ttler":MAILTO:balz.heusler@gmail.com
END:VEVENT
BEGIN:VEVENT
DTSTART;TZID=Europe/Zurich:20260203T163000
DTEND;TZID=Europe/Zurich:20260203T190000
DTSTAMP:20260421T065539
CREATED:20251226T120154Z
LAST-MODIFIED:20251226T120154Z
UID:10000298-1770136200-1770145200@schuetzenmatte-basel.ch
SUMMARY:Wochentreff
DESCRIPTION:
URL:https://schuetzenmatte-basel.ch/anlass/wochentreff-23/2026-02-03/
LOCATION:Clubrestaurant BSC Old Boys\, Wielandplatz 12\, Basel\, Base-Stadt\, 4054\, Schweiz
ORGANIZER;CN="Sch%C3%BCtzenm%C3%A4ttler":MAILTO:balz.heusler@gmail.com
END:VEVENT
BEGIN:VEVENT
DTSTART;TZID=Europe/Zurich:20260127T163000
DTEND;TZID=Europe/Zurich:20260127T190000
DTSTAMP:20260421T065539
CREATED:20251226T120154Z
LAST-MODIFIED:20251226T120154Z
UID:10000297-1769531400-1769540400@schuetzenmatte-basel.ch
SUMMARY:Wochentreff
DESCRIPTION:
URL:https://schuetzenmatte-basel.ch/anlass/wochentreff-23/2026-01-27/
LOCATION:Clubrestaurant BSC Old Boys\, Wielandplatz 12\, Basel\, Base-Stadt\, 4054\, Schweiz
ORGANIZER;CN="Sch%C3%BCtzenm%C3%A4ttler":MAILTO:balz.heusler@gmail.com
END:VEVENT
BEGIN:VEVENT
DTSTART;TZID=Europe/Zurich:20260120T163000
DTEND;TZID=Europe/Zurich:20260120T190000
DTSTAMP:20260421T065539
CREATED:20251226T120154Z
LAST-MODIFIED:20251226T120154Z
UID:10000296-1768926600-1768935600@schuetzenmatte-basel.ch
SUMMARY:Wochentreff
DESCRIPTION:
URL:https://schuetzenmatte-basel.ch/anlass/wochentreff-23/2026-01-20/
LOCATION:Clubrestaurant BSC Old Boys\, Wielandplatz 12\, Basel\, Base-Stadt\, 4054\, Schweiz
ORGANIZER;CN="Sch%C3%BCtzenm%C3%A4ttler":MAILTO:balz.heusler@gmail.com
END:VEVENT
BEGIN:VEVENT
DTSTART;TZID=Europe/Zurich:20260113T163000
DTEND;TZID=Europe/Zurich:20260113T190000
DTSTAMP:20260421T065539
CREATED:20251226T120154Z
LAST-MODIFIED:20251226T120154Z
UID:10000295-1768321800-1768330800@schuetzenmatte-basel.ch
SUMMARY:Wochentreff
DESCRIPTION:
URL:https://schuetzenmatte-basel.ch/anlass/wochentreff-23/2026-01-13/
LOCATION:Clubrestaurant BSC Old Boys\, Wielandplatz 12\, Basel\, Base-Stadt\, 4054\, Schweiz
ORGANIZER;CN="Sch%C3%BCtzenm%C3%A4ttler":MAILTO:balz.heusler@gmail.com
END:VEVENT
BEGIN:VEVENT
DTSTART;TZID=Europe/Zurich:20251216T163000
DTEND;TZID=Europe/Zurich:20251216T190000
DTSTAMP:20260421T065539
CREATED:20250727T092318Z
LAST-MODIFIED:20250727T092318Z
UID:10000293-1765902600-1765911600@schuetzenmatte-basel.ch
SUMMARY:Wochentreff
DESCRIPTION:
URL:https://schuetzenmatte-basel.ch/anlass/wochentreff-24/2025-12-16/
LOCATION:Clubrestaurant BSC Old Boys\, Wielandplatz 12\, Basel\, Base-Stadt\, 4054\, Schweiz
ORGANIZER;CN="Sch%C3%BCtzenm%C3%A4ttler":MAILTO:balz.heusler@gmail.com
END:VEVENT
BEGIN:VEVENT
DTSTART;TZID=Europe/Zurich:20251209T163000
DTEND;TZID=Europe/Zurich:20251209T190000
DTSTAMP:20260421T065539
CREATED:20250727T092318Z
LAST-MODIFIED:20250727T092318Z
UID:10000292-1765297800-1765306800@schuetzenmatte-basel.ch
SUMMARY:Wochentreff
DESCRIPTION:
URL:https://schuetzenmatte-basel.ch/anlass/wochentreff-24/2025-12-09/
LOCATION:Clubrestaurant BSC Old Boys\, Wielandplatz 12\, Basel\, Base-Stadt\, 4054\, Schweiz
ORGANIZER;CN="Sch%C3%BCtzenm%C3%A4ttler":MAILTO:balz.heusler@gmail.com
END:VEVENT
BEGIN:VEVENT
DTSTART;TZID=Europe/Zurich:20251202T163000
DTEND;TZID=Europe/Zurich:20251202T190000
DTSTAMP:20260421T065539
CREATED:20250727T092318Z
LAST-MODIFIED:20250727T092318Z
UID:10000291-1764693000-1764702000@schuetzenmatte-basel.ch
SUMMARY:Wochentreff
DESCRIPTION:
URL:https://schuetzenmatte-basel.ch/anlass/wochentreff-24/2025-12-02/
LOCATION:Clubrestaurant BSC Old Boys\, Wielandplatz 12\, Basel\, Base-Stadt\, 4054\, Schweiz
ORGANIZER;CN="Sch%C3%BCtzenm%C3%A4ttler":MAILTO:balz.heusler@gmail.com
END:VEVENT
BEGIN:VEVENT
DTSTART;TZID=Europe/Zurich:20251125T163000
DTEND;TZID=Europe/Zurich:20251125T190000
DTSTAMP:20260421T065539
CREATED:20250727T092318Z
LAST-MODIFIED:20250727T092318Z
UID:10000290-1764088200-1764097200@schuetzenmatte-basel.ch
SUMMARY:Wochentreff
DESCRIPTION:
URL:https://schuetzenmatte-basel.ch/anlass/wochentreff-24/2025-11-25/
LOCATION:Clubrestaurant BSC Old Boys\, Wielandplatz 12\, Basel\, Base-Stadt\, 4054\, Schweiz
ORGANIZER;CN="Sch%C3%BCtzenm%C3%A4ttler":MAILTO:balz.heusler@gmail.com
END:VEVENT
BEGIN:VEVENT
DTSTART;TZID=Europe/Zurich:20251118T163000
DTEND;TZID=Europe/Zurich:20251118T190000
DTSTAMP:20260421T065539
CREATED:20250727T092318Z
LAST-MODIFIED:20250727T092318Z
UID:10000289-1763483400-1763492400@schuetzenmatte-basel.ch
SUMMARY:Wochentreff
DESCRIPTION:
URL:https://schuetzenmatte-basel.ch/anlass/wochentreff-24/2025-11-18/
LOCATION:Clubrestaurant BSC Old Boys\, Wielandplatz 12\, Basel\, Base-Stadt\, 4054\, Schweiz
ORGANIZER;CN="Sch%C3%BCtzenm%C3%A4ttler":MAILTO:balz.heusler@gmail.com
END:VEVENT
BEGIN:VEVENT
DTSTART;TZID=Europe/Zurich:20251111T163000
DTEND;TZID=Europe/Zurich:20251111T190000
DTSTAMP:20260421T065539
CREATED:20250727T092318Z
LAST-MODIFIED:20250727T092318Z
UID:10000288-1762878600-1762887600@schuetzenmatte-basel.ch
SUMMARY:Wochentreff
DESCRIPTION:
URL:https://schuetzenmatte-basel.ch/anlass/wochentreff-24/2025-11-11/
LOCATION:Clubrestaurant BSC Old Boys\, Wielandplatz 12\, Basel\, Base-Stadt\, 4054\, Schweiz
ORGANIZER;CN="Sch%C3%BCtzenm%C3%A4ttler":MAILTO:balz.heusler@gmail.com
END:VEVENT
BEGIN:VEVENT
DTSTART;TZID=Europe/Zurich:20251104T163000
DTEND;TZID=Europe/Zurich:20251104T190000
DTSTAMP:20260421T065539
CREATED:20250727T092318Z
LAST-MODIFIED:20250727T092318Z
UID:10000287-1762273800-1762282800@schuetzenmatte-basel.ch
SUMMARY:Wochentreff
DESCRIPTION:
URL:https://schuetzenmatte-basel.ch/anlass/wochentreff-24/2025-11-04/
LOCATION:Clubrestaurant BSC Old Boys\, Wielandplatz 12\, Basel\, Base-Stadt\, 4054\, Schweiz
ORGANIZER;CN="Sch%C3%BCtzenm%C3%A4ttler":MAILTO:balz.heusler@gmail.com
END:VEVENT
BEGIN:VEVENT
DTSTART;TZID=Europe/Zurich:20251028T163000
DTEND;TZID=Europe/Zurich:20251028T190000
DTSTAMP:20260421T065539
CREATED:20250727T092318Z
LAST-MODIFIED:20250727T092318Z
UID:10000286-1761669000-1761678000@schuetzenmatte-basel.ch
SUMMARY:Wochentreff
DESCRIPTION:
URL:https://schuetzenmatte-basel.ch/anlass/wochentreff-24/2025-10-28/
LOCATION:Clubrestaurant BSC Old Boys\, Wielandplatz 12\, Basel\, Base-Stadt\, 4054\, Schweiz
ORGANIZER;CN="Sch%C3%BCtzenm%C3%A4ttler":MAILTO:balz.heusler@gmail.com
END:VEVENT
BEGIN:VEVENT
DTSTART;TZID=Europe/Zurich:20251021T163000
DTEND;TZID=Europe/Zurich:20251021T190000
DTSTAMP:20260421T065539
CREATED:20250727T092318Z
LAST-MODIFIED:20250727T092318Z
UID:10000285-1761064200-1761073200@schuetzenmatte-basel.ch
SUMMARY:Wochentreff
DESCRIPTION:
URL:https://schuetzenmatte-basel.ch/anlass/wochentreff-24/2025-10-21/
LOCATION:Clubrestaurant BSC Old Boys\, Wielandplatz 12\, Basel\, Base-Stadt\, 4054\, Schweiz
ORGANIZER;CN="Sch%C3%BCtzenm%C3%A4ttler":MAILTO:balz.heusler@gmail.com
END:VEVENT
BEGIN:VEVENT
DTSTART;TZID=Europe/Zurich:20251014T163000
DTEND;TZID=Europe/Zurich:20251014T190000
DTSTAMP:20260421T065539
CREATED:20250727T092318Z
LAST-MODIFIED:20250727T092318Z
UID:10000284-1760459400-1760468400@schuetzenmatte-basel.ch
SUMMARY:Wochentreff
DESCRIPTION:
URL:https://schuetzenmatte-basel.ch/anlass/wochentreff-24/2025-10-14/
LOCATION:Clubrestaurant BSC Old Boys\, Wielandplatz 12\, Basel\, Base-Stadt\, 4054\, Schweiz
ORGANIZER;CN="Sch%C3%BCtzenm%C3%A4ttler":MAILTO:balz.heusler@gmail.com
END:VEVENT
BEGIN:VEVENT
DTSTART;TZID=Europe/Zurich:20250923T163000
DTEND;TZID=Europe/Zurich:20250923T190000
DTSTAMP:20260421T065539
CREATED:20250727T092318Z
LAST-MODIFIED:20250727T092318Z
UID:10000283-1758645000-1758654000@schuetzenmatte-basel.ch
SUMMARY:Wochentreff
DESCRIPTION:
URL:https://schuetzenmatte-basel.ch/anlass/wochentreff-24/2025-09-23/
LOCATION:Clubrestaurant BSC Old Boys\, Wielandplatz 12\, Basel\, Base-Stadt\, 4054\, Schweiz
ORGANIZER;CN="Sch%C3%BCtzenm%C3%A4ttler":MAILTO:balz.heusler@gmail.com
END:VEVENT
BEGIN:VEVENT
DTSTART;TZID=Europe/Zurich:20250918T170000
DTEND;TZID=Europe/Zurich:20250918T220000
DTSTAMP:20260421T065539
CREATED:20250818T085354Z
LAST-MODIFIED:20250818T090029Z
UID:10000294-1758214800-1758232800@schuetzenmatte-basel.ch
SUMMARY:Herbstanlass
DESCRIPTION:
URL:https://schuetzenmatte-basel.ch/anlass/herbstanlass-3/
LOCATION:Restaurant Heyer Biel Benken\, Mühlegasse 4\, Biel-Benken\, BL\, 4105
CATEGORIES:Kulturelle Anlässe
ORGANIZER;CN="Sch%C3%BCtzenm%C3%A4ttler":MAILTO:balz.heusler@gmail.com
END:VEVENT
BEGIN:VEVENT
DTSTART;TZID=Europe/Zurich:20250916T163000
DTEND;TZID=Europe/Zurich:20250916T190000
DTSTAMP:20260421T065539
CREATED:20250727T092318Z
LAST-MODIFIED:20250727T092318Z
UID:10000282-1758040200-1758049200@schuetzenmatte-basel.ch
SUMMARY:Wochentreff
DESCRIPTION:
URL:https://schuetzenmatte-basel.ch/anlass/wochentreff-24/2025-09-16/
LOCATION:Clubrestaurant BSC Old Boys\, Wielandplatz 12\, Basel\, Base-Stadt\, 4054\, Schweiz
ORGANIZER;CN="Sch%C3%BCtzenm%C3%A4ttler":MAILTO:balz.heusler@gmail.com
END:VEVENT
BEGIN:VEVENT
DTSTART;TZID=Europe/Zurich:20250909T163000
DTEND;TZID=Europe/Zurich:20250909T190000
DTSTAMP:20260421T065539
CREATED:20250727T092318Z
LAST-MODIFIED:20250727T092318Z
UID:10000281-1757435400-1757444400@schuetzenmatte-basel.ch
SUMMARY:Wochentreff
DESCRIPTION:
URL:https://schuetzenmatte-basel.ch/anlass/wochentreff-24/2025-09-09/
LOCATION:Clubrestaurant BSC Old Boys\, Wielandplatz 12\, Basel\, Base-Stadt\, 4054\, Schweiz
ORGANIZER;CN="Sch%C3%BCtzenm%C3%A4ttler":MAILTO:balz.heusler@gmail.com
END:VEVENT
BEGIN:VEVENT
DTSTART;TZID=Europe/Zurich:20250902T163000
DTEND;TZID=Europe/Zurich:20250902T190000
DTSTAMP:20260421T065539
CREATED:20250727T092318Z
LAST-MODIFIED:20250727T092318Z
UID:10000280-1756830600-1756839600@schuetzenmatte-basel.ch
SUMMARY:Wochentreff
DESCRIPTION:
URL:https://schuetzenmatte-basel.ch/anlass/wochentreff-24/2025-09-02/
LOCATION:Clubrestaurant BSC Old Boys\, Wielandplatz 12\, Basel\, Base-Stadt\, 4054\, Schweiz
ORGANIZER;CN="Sch%C3%BCtzenm%C3%A4ttler":MAILTO:balz.heusler@gmail.com
END:VEVENT
BEGIN:VEVENT
DTSTART;TZID=Europe/Zurich:20250826T163000
DTEND;TZID=Europe/Zurich:20250826T190000
DTSTAMP:20260421T065539
CREATED:20250727T092318Z
LAST-MODIFIED:20250727T092318Z
UID:10000279-1756225800-1756234800@schuetzenmatte-basel.ch
SUMMARY:Wochentreff
DESCRIPTION:
URL:https://schuetzenmatte-basel.ch/anlass/wochentreff-24/2025-08-26/
LOCATION:Clubrestaurant BSC Old Boys\, Wielandplatz 12\, Basel\, Base-Stadt\, 4054\, Schweiz
ORGANIZER;CN="Sch%C3%BCtzenm%C3%A4ttler":MAILTO:balz.heusler@gmail.com
END:VEVENT
BEGIN:VEVENT
DTSTART;TZID=Europe/Zurich:20250819T163000
DTEND;TZID=Europe/Zurich:20250819T190000
DTSTAMP:20260421T065539
CREATED:20250727T092318Z
LAST-MODIFIED:20250727T092318Z
UID:10000278-1755621000-1755630000@schuetzenmatte-basel.ch
SUMMARY:Wochentreff
DESCRIPTION:
URL:https://schuetzenmatte-basel.ch/anlass/wochentreff-24/2025-08-19/
LOCATION:Clubrestaurant BSC Old Boys\, Wielandplatz 12\, Basel\, Base-Stadt\, 4054\, Schweiz
ORGANIZER;CN="Sch%C3%BCtzenm%C3%A4ttler":MAILTO:balz.heusler@gmail.com
END:VEVENT
BEGIN:VEVENT
DTSTART;TZID=Europe/Zurich:20250812T163000
DTEND;TZID=Europe/Zurich:20250812T190000
DTSTAMP:20260421T065539
CREATED:20250727T092318Z
LAST-MODIFIED:20250727T092318Z
UID:10000277-1755016200-1755025200@schuetzenmatte-basel.ch
SUMMARY:Wochentreff
DESCRIPTION:
URL:https://schuetzenmatte-basel.ch/anlass/wochentreff-24/2025-08-12/
LOCATION:Clubrestaurant BSC Old Boys\, Wielandplatz 12\, Basel\, Base-Stadt\, 4054\, Schweiz
ORGANIZER;CN="Sch%C3%BCtzenm%C3%A4ttler":MAILTO:balz.heusler@gmail.com
END:VEVENT
BEGIN:VEVENT
DTSTART;TZID=Europe/Zurich:20250624T163000
DTEND;TZID=Europe/Zurich:20250624T190000
DTSTAMP:20260421T065539
CREATED:20241227T095008Z
LAST-MODIFIED:20241227T095008Z
UID:10000258-1750782600-1750791600@schuetzenmatte-basel.ch
SUMMARY:Wochentreff
DESCRIPTION:
URL:https://schuetzenmatte-basel.ch/anlass/wochentreff-22/2025-06-24/
LOCATION:Clubrestaurant BSC Old Boys\, Wielandplatz 12\, Basel\, Base-Stadt\, 4054\, Schweiz
ORGANIZER;CN="Sch%C3%BCtzenm%C3%A4ttler":MAILTO:balz.heusler@gmail.com
END:VEVENT
END:VCALENDAR